BEGIN:VCALENDAR
VERSION:2.0
PRODID:-//Plone.org//NONSGML plone.app.event//EN
X-WR-TIMEZONE:Brazil/East
BEGIN:VEVENT
SUMMARY:Audiência Pública para discutir a área azul.
DTSTART;TZID=Brazil/East;VALUE=DATE-TIME:20170315T143000
DTEND;TZID=Brazil/East;VALUE=DATE-TIME:20170315T180000
DTSTAMP;VALUE=DATE-TIME:20260419T185926Z
UID:d46d173803324ceda1864252245b5b76@www.goiania.go.leg.br
CONTACT:Ver. Dra Cristina Lopes Afonso
CREATED;VALUE=DATE-TIME:20171208T111312Z
LAST-MODIFIED;VALUE=DATE-TIME:20171208T112928Z
LOCATION:Auditório Carlos Eurico
URL:https://www.goiania.go.leg.br/sala-de-imprensa/eventos/audiencia-publi
 ca-%20Area%20Azul
END:VEVENT
BEGIN:VTIMEZONE
TZID:Brazil/East
X-LIC-LOCATION:Brazil/East
BEGIN:STANDARD
DTSTART;VALUE=DATE-TIME:20170218T230000
TZNAME:BRT
TZOFFSETFROM:-0200
TZOFFSETTO:-0300
END:STANDARD
END:VTIMEZONE
END:VCALENDAR
