BEGIN:VCALENDAR
VERSION:2.0
PRODID:-//Plone.org//NONSGML plone.app.event//EN
X-WR-TIMEZONE:Brazil/East
BEGIN:VEVENT
SUMMARY:ASSEMBLEIA ORDINÁRIA DA ASSOCIAÇÃO DOS SERVIDORES DA GUARDA MUN
 ICIPAL DE GOIÂNIA.
DTSTART;TZID=Brazil/East;VALUE=DATE-TIME:20211130T183000
DTEND;TZID=Brazil/East;VALUE=DATE-TIME:20211130T220000
DTSTAMP;VALUE=DATE-TIME:20260423T070108Z
UID:06b53167a9fb41b7bcc9e6a5c4b0a237@www.goiania.go.leg.br
CONTACT:VER. ROMÁRIO POLICARPO
CREATED;VALUE=DATE-TIME:20211126T111038Z
LAST-MODIFIED;VALUE=DATE-TIME:20211126T111145Z
LOCATION:AUDITÓRIO CARLOS EURICO
URL:https://www.goiania.go.leg.br/sala-de-imprensa/eventos/assembleia-ordi
 naria-da-associacao-dos-servidores-da-guarda-municipal-de-goiania
END:VEVENT
BEGIN:VTIMEZONE
TZID:Brazil/East
X-LIC-LOCATION:Brazil/East
BEGIN:DAYLIGHT
DTSTART;VALUE=DATE-TIME:20211017T010000
TZNAME:BRST
TZOFFSETFROM:-0300
TZOFFSETTO:-0200
END:DAYLIGHT
END:VTIMEZONE
END:VCALENDAR
