BEGIN:VCALENDAR
VERSION:2.0
PRODID:-//Plone.org//NONSGML plone.app.event//EN
X-WR-TIMEZONE:Brazil/East
BEGIN:VEVENT
SUMMARY:ASSEMBLEIA GERAL DO CONSELHO DE DIRETORES DAS ESCOLAS MUNICIPAIS E
  CMEIS DE GOIÂNIA.
DTSTART;TZID=Brazil/East;VALUE=DATE-TIME:20170322T080000
DTEND;TZID=Brazil/East;VALUE=DATE-TIME:20170322T120000
DTSTAMP;VALUE=DATE-TIME:20260421T085430Z
UID:5c0c21d0826847588bced05e415cd268@www.goiania.go.leg.br
CONTACT:VEREADOR ANDREY AZEREDO
CREATED;VALUE=DATE-TIME:20171208T111312Z
LAST-MODIFIED;VALUE=DATE-TIME:20171208T112930Z
LOCATION:AUDITÓRIO JAIME CÂMARA
URL:https://www.goiania.go.leg.br/sala-de-imprensa/eventos/assembleia-gera
 l-do-conselho-de-diretores-das-escolas-municipais-e-cmeis-de-goiania
END:VEVENT
BEGIN:VTIMEZONE
TZID:Brazil/East
X-LIC-LOCATION:Brazil/East
BEGIN:STANDARD
DTSTART;VALUE=DATE-TIME:20170218T230000
TZNAME:BRT
TZOFFSETFROM:-0200
TZOFFSETTO:-0300
END:STANDARD
END:VTIMEZONE
END:VCALENDAR
