BEGIN:VCALENDAR
VERSION:2.0
PRODID:-//Plone.org//NONSGML plone.app.event//EN
X-WR-TIMEZONE:Brazil/East
BEGIN:VEVENT
SUMMARY:ASSEMBLEIA GERAL DO CONSELHO DE DIRETORES DAS ESCOLAS E CMEI´S DE
  GOIÂNIA  - CONDIR.
DTSTART;TZID=Brazil/East;VALUE=DATE-TIME:20181217T070000
DTEND;TZID=Brazil/East;VALUE=DATE-TIME:20181217T120000
DTSTAMP;VALUE=DATE-TIME:20260421T084908Z
UID:98b901b8d1ac4bd091bce33b45db3c0e@www.goiania.go.leg.br
CONTACT:DIEGO MONTEIRO SILVA
CREATED;VALUE=DATE-TIME:20181211T141106Z
LAST-MODIFIED;VALUE=DATE-TIME:20181211T141116Z
LOCATION:AUDITÓRIO JAIME CÂMARA
URL:https://www.goiania.go.leg.br/sala-de-imprensa/eventos/assembleia-gera
 l-do-conselho-de-diretores-das-escolas-e-cmeis-de-goiania-condir
END:VEVENT
BEGIN:VTIMEZONE
TZID:Brazil/East
X-LIC-LOCATION:Brazil/East
BEGIN:DAYLIGHT
DTSTART;VALUE=DATE-TIME:20181021T010000
TZNAME:BRST
TZOFFSETFROM:-0300
TZOFFSETTO:-0200
END:DAYLIGHT
END:VTIMEZONE
END:VCALENDAR
