BEGIN:VCALENDAR
VERSION:2.0
PRODID:-//Plone.org//NONSGML plone.app.event//EN
X-WR-TIMEZONE:Brazil/East
BEGIN:VEVENT
SUMMARY:ASSEMBLEIA GERAL DA CATEGORIA DE INSTRUTORES DE AUTO ESCOLA E EMPR
 EGADOS DO ESTADO DE GOIÁS.
DTSTART;TZID=Brazil/East;VALUE=DATE-TIME:20180520T080000
DTEND;TZID=Brazil/East;VALUE=DATE-TIME:20180520T130000
DTSTAMP;VALUE=DATE-TIME:20260421T085440Z
UID:a58311c059ec4914a29c0589509e4a3a@www.goiania.go.leg.br
CONTACT:VEREADOR KLEYBE MORAIS
CREATED;VALUE=DATE-TIME:20180502T124524Z
LAST-MODIFIED;VALUE=DATE-TIME:20180502T124553Z
LOCATION:AUDITÓRIO CARLOS EURICO
URL:https://www.goiania.go.leg.br/sala-de-imprensa/eventos/assembleia-gera
 l-da-categoria-de-instrutores-de-auto-escola-e-empregados-do-estado-de-goi
 as
END:VEVENT
BEGIN:VTIMEZONE
TZID:Brazil/East
X-LIC-LOCATION:Brazil/East
BEGIN:STANDARD
DTSTART;VALUE=DATE-TIME:20180217T230000
TZNAME:BRT
TZOFFSETFROM:-0200
TZOFFSETTO:-0300
END:STANDARD
END:VTIMEZONE
END:VCALENDAR
