BEGIN:VCALENDAR
VERSION:2.0
PRODID:-//Plone.org//NONSGML plone.app.event//EN
X-WR-TIMEZONE:Brazil/East
BEGIN:VEVENT
SUMMARY:ASSEMBLEIA COM OS TRABALHADORES DO SISTEMA ÚNICO DE SAÚDE NO EST
 ADO DE GOIÁS.
DTSTART;TZID=Brazil/East;VALUE=DATE-TIME:20180215T080000
DTEND;TZID=Brazil/East;VALUE=DATE-TIME:20180215T180000
DTSTAMP;VALUE=DATE-TIME:20260421T081019Z
UID:21282d4429cb42fbb583a089b74e2eea@www.goiania.go.leg.br
CONTACT:FLAVIANA ALVES BARBOSA
CREATED;VALUE=DATE-TIME:20180205T113702Z
LAST-MODIFIED;VALUE=DATE-TIME:20180205T113713Z
LOCATION:AUDITÓRIO CARLOS EURICO
URL:https://www.goiania.go.leg.br/sala-de-imprensa/eventos/assembleia-com-
 os-trabalhadores-do-sistema-unico-de-saude-no-estado-de-goias-1
END:VEVENT
BEGIN:VTIMEZONE
TZID:Brazil/East
X-LIC-LOCATION:Brazil/East
BEGIN:DAYLIGHT
DTSTART;VALUE=DATE-TIME:20171015T010000
TZNAME:BRST
TZOFFSETFROM:-0300
TZOFFSETTO:-0200
END:DAYLIGHT
END:VTIMEZONE
END:VCALENDAR
