BEGIN:VCALENDAR
VERSION:2.0
PRODID:-//Plone.org//NONSGML plone.app.event//EN
X-WR-TIMEZONE:Brazil/East
BEGIN:VEVENT
SUMMARY:2º ENCONTRO DO GRUPO DE ESTUDOS EM POLÍTICAS PÚBLICAS DA CÂMAR
 A MUNICIPAL DE GOIÂNIA\, COM EXPOSIÇÃO E MEDIAÇÃO DO PROCURADOR LUCAS
  VELOSO.
DTSTART;TZID=Brazil/East;VALUE=DATE-TIME:20221205T090000
DTEND;TZID=Brazil/East;VALUE=DATE-TIME:20221205T120000
DTSTAMP;VALUE=DATE-TIME:20260420T082331Z
UID:ff66bede22ac40709d22052b57046385@www.goiania.go.leg.br
CONTACT:MILKA REZENDE
CREATED;VALUE=DATE-TIME:20221130T104232Z
LAST-MODIFIED;VALUE=DATE-TIME:20221130T104243Z
LOCATION:SALA DE REUNIÃO DA PRESIDÊNCIA
URL:https://www.goiania.go.leg.br/sala-de-imprensa/eventos/2o-encontro-do-
 grupo-de-estudos-em-politicas-publicas-da-camara-municipal-de-goiania-com-
 exposicao-e-mediacao-do-procurador-lucas-veloso
END:VEVENT
BEGIN:VTIMEZONE
TZID:Brazil/East
X-LIC-LOCATION:Brazil/East
BEGIN:DAYLIGHT
DTSTART;VALUE=DATE-TIME:20221016T010000
TZNAME:BRST
TZOFFSETFROM:-0300
TZOFFSETTO:-0200
END:DAYLIGHT
END:VTIMEZONE
END:VCALENDAR
