BEGIN:VCALENDAR
VERSION:2.0
PRODID:-//Plone.org//NONSGML plone.app.event//EN
X-WR-TIMEZONE:Brazil/East
BEGIN:VEVENT
SUMMARY:10ª EDIÇÃO DO MUTIRÃO NACIONAL DOS LIONS CLUBES NA SAÚDE.
DTSTART;TZID=Brazil/East;VALUE=DATE-TIME:20191017T070000
DTEND;TZID=Brazil/East;VALUE=DATE-TIME:20191017T170000
DTSTAMP;VALUE=DATE-TIME:20260420T053722Z
UID:4d0a13cfe70f46f0b156925775843a2c@www.goiania.go.leg.br
CONTACT:VEREADOR ANSELMO PEREIRA
CREATED;VALUE=DATE-TIME:20191002T222218Z
LAST-MODIFIED;VALUE=DATE-TIME:20191002T222229Z
LOCATION:HALL DE ENTRADA
URL:https://www.goiania.go.leg.br/sala-de-imprensa/eventos/10a-edicao-do-m
 utirao-nacional-dos-lions-clubes-na-saude
END:VEVENT
BEGIN:VTIMEZONE
TZID:Brazil/East
X-LIC-LOCATION:Brazil/East
BEGIN:STANDARD
DTSTART;VALUE=DATE-TIME:20190216T230000
TZNAME:BRT
TZOFFSETFROM:-0200
TZOFFSETTO:-0300
END:STANDARD
END:VTIMEZONE
END:VCALENDAR
