BEGIN:VCALENDAR
VERSION:2.0
PRODID:-//Plone.org//NONSGML plone.app.event//EN
X-WR-TIMEZONE:Brazil/East
BEGIN:VEVENT
SUMMARY:VISITA TÉCNICA SOBRE O CODEMETRO.
DTSTART;TZID=Brazil/East;VALUE=DATE-TIME:20170517T170000
DTEND;TZID=Brazil/East;VALUE=DATE-TIME:20170517T180000
DTSTAMP;VALUE=DATE-TIME:20260422T070054Z
UID:9be7c37088e846dea153a2ce1e9a612a@www.goiania.go.leg.br
CONTACT:VEREADOR ANDREY AZEREDO
CREATED;VALUE=DATE-TIME:20170510T154608Z
LAST-MODIFIED;VALUE=DATE-TIME:20170510T154615Z
LOCATION:SALA DE REUNIÃO DA PRESIDÊNCIA
URL:https://www.goiania.go.leg.br/institucional/eventos/visita-tecnica-sob
 re-o-codemetro
END:VEVENT
BEGIN:VTIMEZONE
TZID:Brazil/East
X-LIC-LOCATION:Brazil/East
BEGIN:STANDARD
DTSTART;VALUE=DATE-TIME:20170218T230000
TZNAME:BRT
TZOFFSETFROM:-0200
TZOFFSETTO:-0300
END:STANDARD
END:VTIMEZONE
END:VCALENDAR
