BEGIN:VCALENDAR
VERSION:2.0
PRODID:-//Plone.org//NONSGML plone.app.event//EN
X-WR-TIMEZONE:Brazil/East
BEGIN:VEVENT
SUMMARY:SESSÃO SOLENE DE ENTREGA DE TÍTULO AOS SSENHORES: JOSÉ EDUARDO 
 DE OLIVEIRA E FRANCIMAR MARTINS DANTAS.
DTSTART;TZID=Brazil/East;VALUE=DATE-TIME:20161103T173000
DTEND;TZID=Brazil/East;VALUE=DATE-TIME:20161103T220000
DTSTAMP;VALUE=DATE-TIME:20260419T133142Z
UID:76519abc02254ae3aa3c3ee9a542ec07@www.goiania.go.leg.br
CONTACT:VEREADOR PAULO BORGES
CREATED;VALUE=DATE-TIME:20160923T120032Z
LAST-MODIFIED;VALUE=DATE-TIME:20160923T120039Z
LOCATION:PLENÁRIO TRAJANO GUIMARÃES
URL:https://www.goiania.go.leg.br/institucional/eventos/sessao-solene-de-e
 ntrega-de-titulo-aos-ssenhores-jose-eduardo-de-oliveira-e-francimar-martin
 s-dantas
END:VEVENT
BEGIN:VTIMEZONE
TZID:Brazil/East
X-LIC-LOCATION:Brazil/East
BEGIN:DAYLIGHT
DTSTART;VALUE=DATE-TIME:20161016T010000
TZNAME:BRST
TZOFFSETFROM:-0300
TZOFFSETTO:-0200
END:DAYLIGHT
END:VTIMEZONE
END:VCALENDAR
