BEGIN:VCALENDAR
VERSION:2.0
PRODID:-//Plone.org//NONSGML plone.app.event//EN
X-WR-TIMEZONE:Brazil/East
BEGIN:VEVENT
SUMMARY:SESSÃO SOLENE DE ENTREGA DE TÍTULO AOS SENHORES: LUIS HENRIQUE E
  JOSÉ CLARIMUNDO CÉSAR.
DTSTART;TZID=Brazil/East;VALUE=DATE-TIME:20161215T190000
DTEND;TZID=Brazil/East;VALUE=DATE-TIME:20161215T220000
DTSTAMP;VALUE=DATE-TIME:20260419T133114Z
UID:f698abc7ec7a4858905fd418e9444cf5@www.goiania.go.leg.br
CONTACT:VEREADOR DEIVISON COSTA
CREATED;VALUE=DATE-TIME:20161124T121252Z
LAST-MODIFIED;VALUE=DATE-TIME:20161124T121258Z
LOCATION:PLENÁRIO TRAJANO GUIMARÃES
URL:https://www.goiania.go.leg.br/institucional/eventos/sessao-solene-de-e
 ntrega-de-titulo-aos-senhores-luis-henrique-e-jose-clarimundo-cesar
END:VEVENT
BEGIN:VTIMEZONE
TZID:Brazil/East
X-LIC-LOCATION:Brazil/East
BEGIN:DAYLIGHT
DTSTART;VALUE=DATE-TIME:20161016T010000
TZNAME:BRST
TZOFFSETFROM:-0300
TZOFFSETTO:-0200
END:DAYLIGHT
END:VTIMEZONE
END:VCALENDAR
