BEGIN:VCALENDAR
VERSION:2.0
PRODID:-//Plone.org//NONSGML plone.app.event//EN
X-WR-TIMEZONE:Brazil/East
BEGIN:VEVENT
SUMMARY:SESSÃO SOLENE DE ENTREGA DE TÍTULO AO SENHOR RÔMULO WEDEN RIBEI
 RO.
DTSTART;TZID=Brazil/East;VALUE=DATE-TIME:20160822T150000
DTEND;TZID=Brazil/East;VALUE=DATE-TIME:20160822T180000
DTSTAMP;VALUE=DATE-TIME:20260419T133020Z
UID:ab66a7f894724358855c7ba602d35864@www.goiania.go.leg.br
CONTACT:VER. EDSON AUTOMÓVEIS
CREATED;VALUE=DATE-TIME:20160801T132338Z
LAST-MODIFIED;VALUE=DATE-TIME:20160801T132343Z
LOCATION:PLENÁRIO TRAJANO GUIMARÃES
URL:https://www.goiania.go.leg.br/institucional/eventos/sessao-solene-de-e
 ntrega-de-titulo-ao-senhor-romulo-weden-ribeiro
END:VEVENT
BEGIN:VTIMEZONE
TZID:Brazil/East
X-LIC-LOCATION:Brazil/East
BEGIN:STANDARD
DTSTART;VALUE=DATE-TIME:20160220T230000
TZNAME:BRT
TZOFFSETFROM:-0200
TZOFFSETTO:-0300
END:STANDARD
END:VTIMEZONE
END:VCALENDAR
