BEGIN:VCALENDAR
VERSION:2.0
PRODID:-//Plone.org//NONSGML plone.app.event//EN
X-WR-TIMEZONE:Brazil/East
BEGIN:VEVENT
SUMMARY:SESSÃO SOLENE DE ENTREGA DE TÍTULO AO SENHOR JOÃO FURTADO DE ME
 NDONÇA NETO.
DTSTART;TZID=Brazil/East;VALUE=DATE-TIME:20170418T193000
DTEND;TZID=Brazil/East;VALUE=DATE-TIME:20170418T220000
DTSTAMP;VALUE=DATE-TIME:20260419T120637Z
UID:a4f9a4ffaf204ed79a272e74f3f181fd@www.goiania.go.leg.br
CONTACT:VEREADOR KLEYBE MORAIS
CREATED;VALUE=DATE-TIME:20170206T102200Z
LAST-MODIFIED;VALUE=DATE-TIME:20170206T102205Z
LOCATION:PLENÁRIO TRAJANO GUIMARÃES
URL:https://www.goiania.go.leg.br/institucional/eventos/sessao-solene-de-e
 ntrega-de-titulo-ao-senhor-joao-furtado-de-mendonca-neto
END:VEVENT
BEGIN:VTIMEZONE
TZID:Brazil/East
X-LIC-LOCATION:Brazil/East
BEGIN:STANDARD
DTSTART;VALUE=DATE-TIME:20170218T230000
TZNAME:BRT
TZOFFSETFROM:-0200
TZOFFSETTO:-0300
END:STANDARD
END:VTIMEZONE
END:VCALENDAR
