BEGIN:VCALENDAR
VERSION:2.0
PRODID:-//Plone.org//NONSGML plone.app.event//EN
X-WR-TIMEZONE:Brazil/East
BEGIN:VEVENT
SUMMARY:SESSÃO SOLENE DE ENTREGA DE TÍTULO AO SENHOR ISRAEL EVE SALES DE
  NOVAES.
DTSTART;TZID=Brazil/East;VALUE=DATE-TIME:20170307T193000
DTEND;TZID=Brazil/East;VALUE=DATE-TIME:20170307T220000
DTSTAMP;VALUE=DATE-TIME:20260419T145923Z
UID:d374828d8d914904a617707561394072@www.goiania.go.leg.br
CONTACT:VEREADOR CLÉCIO ALVES
CREATED;VALUE=DATE-TIME:20170202T100247Z
LAST-MODIFIED;VALUE=DATE-TIME:20170202T100254Z
LOCATION:PLENÁRIO TRAJANO GUIMARÃES
URL:https://www.goiania.go.leg.br/institucional/eventos/sessao-solene-de-e
 ntrega-de-titulo-ao-senhor-israel-eve-sales-de-novaes
END:VEVENT
BEGIN:VTIMEZONE
TZID:Brazil/East
X-LIC-LOCATION:Brazil/East
BEGIN:STANDARD
DTSTART;VALUE=DATE-TIME:20170218T230000
TZNAME:BRT
TZOFFSETFROM:-0200
TZOFFSETTO:-0300
END:STANDARD
END:VTIMEZONE
END:VCALENDAR
