BEGIN:VCALENDAR
VERSION:2.0
PRODID:-//Plone.org//NONSGML plone.app.event//EN
X-WR-TIMEZONE:Brazil/East
BEGIN:VEVENT
SUMMARY:SESSÃO SOLENE DE ENTREGA DE TÍTULO AO DOUTOR SUSSUMO TAIA.
DTSTART;TZID=Brazil/East;VALUE=DATE-TIME:20160920T193000
DTEND;TZID=Brazil/East;VALUE=DATE-TIME:20160920T220000
DTSTAMP;VALUE=DATE-TIME:20260419T120541Z
UID:6c139e9da0ef427698f217fb2317adcf@www.goiania.go.leg.br
CONTACT:VEREADOR DENÍCIO TRINDADE
CREATED;VALUE=DATE-TIME:20160812T104144Z
LAST-MODIFIED;VALUE=DATE-TIME:20160905T111636Z
LOCATION:PLENÁRIO TRAJANO GUIMARÃES
URL:https://www.goiania.go.leg.br/institucional/eventos/sessao-solene-de-e
 ntrega-de-titulo-ao-doutor-sussumo-taia
END:VEVENT
BEGIN:VTIMEZONE
TZID:Brazil/East
X-LIC-LOCATION:Brazil/East
BEGIN:STANDARD
DTSTART;VALUE=DATE-TIME:20160220T230000
TZNAME:BRT
TZOFFSETFROM:-0200
TZOFFSETTO:-0300
END:STANDARD
END:VTIMEZONE
END:VCALENDAR
