BEGIN:VCALENDAR
VERSION:2.0
PRODID:-//Plone.org//NONSGML plone.app.event//EN
X-WR-TIMEZONE:Brazil/East
BEGIN:VEVENT
SUMMARY:SESSÃO SOLENE DE ENTREGA DE TÍTULO AO DESEMBARGADOR MARCOS AUGUS
 TO DE SOUSA.
DTSTART;TZID=Brazil/East;VALUE=DATE-TIME:20161104T193000
DTEND;TZID=Brazil/East;VALUE=DATE-TIME:20161104T220000
DTSTAMP;VALUE=DATE-TIME:20260419T174235Z
UID:2bb2579c4e2342a49f78552cf420bd18@www.goiania.go.leg.br
CONTACT:VEREADOR ELIAS VAZ
CREATED;VALUE=DATE-TIME:20161027T103921Z
LAST-MODIFIED;VALUE=DATE-TIME:20161027T103929Z
LOCATION:PLENÁRIO TRAJANO GUIMARÃES
URL:https://www.goiania.go.leg.br/institucional/eventos/sessao-solene-de-e
 ntrega-de-titulo-ao-desembargador-marcos-augusto-de-sousa
END:VEVENT
BEGIN:VTIMEZONE
TZID:Brazil/East
X-LIC-LOCATION:Brazil/East
BEGIN:DAYLIGHT
DTSTART;VALUE=DATE-TIME:20161016T010000
TZNAME:BRST
TZOFFSETFROM:-0300
TZOFFSETTO:-0200
END:DAYLIGHT
END:VTIMEZONE
END:VCALENDAR
