BEGIN:VCALENDAR
VERSION:2.0
PRODID:-//Plone.org//NONSGML plone.app.event//EN
X-WR-TIMEZONE:Brazil/East
BEGIN:VEVENT
SUMMARY:SESSÃO SOLENE DE ENTREGA DE TÍTULO A SENHORA NAIARA DE FÁTIMA A
 ZEVEDO.
DTSTART;TZID=Brazil/East;VALUE=DATE-TIME:20170321T193000
DTEND;TZID=Brazil/East;VALUE=DATE-TIME:20170321T220000
DTSTAMP;VALUE=DATE-TIME:20260419T162152Z
UID:437b4a5db7114a05a96bb483c2b18c7b@www.goiania.go.leg.br
CONTACT:VEREADOR WELINGTON PEIXOTO
CREATED;VALUE=DATE-TIME:20170116T113629Z
LAST-MODIFIED;VALUE=DATE-TIME:20170116T113636Z
LOCATION:PLENÁRIO TRAJANO GUIMARÃES
URL:https://www.goiania.go.leg.br/institucional/eventos/sessao-solene-de-e
 ntrega-de-titulo-a-senhora-naiara-de-fatima-azevedo
END:VEVENT
BEGIN:VTIMEZONE
TZID:Brazil/East
X-LIC-LOCATION:Brazil/East
BEGIN:STANDARD
DTSTART;VALUE=DATE-TIME:20170218T230000
TZNAME:BRT
TZOFFSETFROM:-0200
TZOFFSETTO:-0300
END:STANDARD
END:VTIMEZONE
END:VCALENDAR
