BEGIN:VCALENDAR
VERSION:2.0
PRODID:-//Plone.org//NONSGML plone.app.event//EN
X-WR-TIMEZONE:Brazil/East
BEGIN:VEVENT
SUMMARY:SESSÃO ESPECIAL EM MEMÓRIA AOS (30) ANOS DO ACIDENTE RADIOATIVO 
 COM O CÉSIO 137 EM GOIÂNIA.
DTSTART;TZID=Brazil/East;VALUE=DATE-TIME:20170913T193000
DTEND;TZID=Brazil/East;VALUE=DATE-TIME:20170913T220000
DTSTAMP;VALUE=DATE-TIME:20260420T010738Z
UID:cd1ab1901e984709aeb3f00e24a58101@www.goiania.go.leg.br
CONTACT:VEREADOR ANDREY AZEREDO
CREATED;VALUE=DATE-TIME:20170904T100805Z
LAST-MODIFIED;VALUE=DATE-TIME:20170904T100811Z
LOCATION:PLENÁRIO TRAJANO GUIMARÃES
URL:https://www.goiania.go.leg.br/institucional/eventos/sessao-especial-em
 -memoria-aos-30-anos-do-acidente-radioativo-com-o-cesio-137-em-goiania
END:VEVENT
BEGIN:VTIMEZONE
TZID:Brazil/East
X-LIC-LOCATION:Brazil/East
BEGIN:STANDARD
DTSTART;VALUE=DATE-TIME:20170218T230000
TZNAME:BRT
TZOFFSETFROM:-0200
TZOFFSETTO:-0300
END:STANDARD
END:VTIMEZONE
END:VCALENDAR
