BEGIN:VCALENDAR
VERSION:2.0
PRODID:-//Plone.org//NONSGML plone.app.event//EN
X-WR-TIMEZONE:Brazil/East
BEGIN:VEVENT
SUMMARY:SESSÃO ESPECIAL EM HOMENAGEM  AS MULHERES DE EXPRESSÃO.
DTSTART;TZID=Brazil/East;VALUE=DATE-TIME:20170306T193000
DTEND;TZID=Brazil/East;VALUE=DATE-TIME:20170306T220000
DTSTAMP;VALUE=DATE-TIME:20260420T100156Z
UID:9c799da72d1b41b6a074c32a6b983547@www.goiania.go.leg.br
CONTACT:VEREADORA LEIA KLEBIA
CREATED;VALUE=DATE-TIME:20170207T112733Z
LAST-MODIFIED;VALUE=DATE-TIME:20170207T112739Z
LOCATION:PLENÁRIO TRAJANO GUIMARÃES
URL:https://www.goiania.go.leg.br/institucional/eventos/sessao-especial-em
 -homenagem-as-mulheres-de-expressao
END:VEVENT
BEGIN:VTIMEZONE
TZID:Brazil/East
X-LIC-LOCATION:Brazil/East
BEGIN:STANDARD
DTSTART;VALUE=DATE-TIME:20170218T230000
TZNAME:BRT
TZOFFSETFROM:-0200
TZOFFSETTO:-0300
END:STANDARD
END:VTIMEZONE
END:VCALENDAR
