BEGIN:VCALENDAR
VERSION:2.0
PRODID:-//Plone.org//NONSGML plone.app.event//EN
X-WR-TIMEZONE:Brazil/East
BEGIN:VEVENT
SUMMARY:SESSÃO ESPECIAL EM HOMENAGEM ÀS MULHERES DA LOJA MAÇÔNICA ESTR
 ELA DE GOIÁS.
DTSTART;TZID=Brazil/East;VALUE=DATE-TIME:20160914T193000
DTEND;TZID=Brazil/East;VALUE=DATE-TIME:20160914T220000
DTSTAMP;VALUE=DATE-TIME:20260420T033125Z
UID:16df621d977243669e88650a80657622@www.goiania.go.leg.br
CONTACT:VEREADOR ANSELMO PEREIRA
CREATED;VALUE=DATE-TIME:20160825T145239Z
LAST-MODIFIED;VALUE=DATE-TIME:20160825T145247Z
LOCATION:PLENÁRIO TRAJANO GUIMARÃES
URL:https://www.goiania.go.leg.br/institucional/eventos/sessao-especial-em
 -homenagem-as-mulheres-da-loja-maconica-estrela-de-goias
END:VEVENT
BEGIN:VTIMEZONE
TZID:Brazil/East
X-LIC-LOCATION:Brazil/East
BEGIN:STANDARD
DTSTART;VALUE=DATE-TIME:20160220T230000
TZNAME:BRT
TZOFFSETFROM:-0200
TZOFFSETTO:-0300
END:STANDARD
END:VTIMEZONE
END:VCALENDAR
