BEGIN:VCALENDAR
VERSION:2.0
PRODID:-//Plone.org//NONSGML plone.app.event//EN
X-WR-TIMEZONE:Brazil/East
BEGIN:VEVENT
SUMMARY:SESSÃO ESPECIAL EM HOMENAGEM AOS POLICIAIS MILITARES DA RESERVA R
 EMUNERADA.
DTSTART;TZID=Brazil/East;VALUE=DATE-TIME:20171130T193000
DTEND;TZID=Brazil/East;VALUE=DATE-TIME:20171130T220000
DTSTAMP;VALUE=DATE-TIME:20260423T053227Z
UID:60ce05254ddc417eb4a7d700f3f26d7a@www.goiania.go.leg.br
CONTACT:VEREADOR CABO SENNA
CREATED;VALUE=DATE-TIME:20170623T142325Z
LAST-MODIFIED;VALUE=DATE-TIME:20170623T142332Z
LOCATION:PLENÁRIO TRAJANO GUIMARÃES
URL:https://www.goiania.go.leg.br/institucional/eventos/sessao-especial-em
 -homenagem-aos-policiais-militares-da-reserva-remunerada
END:VEVENT
BEGIN:VTIMEZONE
TZID:Brazil/East
X-LIC-LOCATION:Brazil/East
BEGIN:DAYLIGHT
DTSTART;VALUE=DATE-TIME:20171015T010000
TZNAME:BRST
TZOFFSETFROM:-0300
TZOFFSETTO:-0200
END:DAYLIGHT
END:VTIMEZONE
END:VCALENDAR
