BEGIN:VCALENDAR
VERSION:2.0
PRODID:-//Plone.org//NONSGML plone.app.event//EN
X-WR-TIMEZONE:Brazil/East
BEGIN:VEVENT
SUMMARY:SESSÃO ESPECIAL EM HOMENAGEM  AOS PIONEIROS DA ASSOCIAÇÃO DOS F
 UNCIONÁRIOS DO FISCO DO ESTADO DE GOIÁS - AFFEGO
DTSTART;TZID=Brazil/East;VALUE=DATE-TIME:20160819T100000
DTEND;TZID=Brazil/East;VALUE=DATE-TIME:20160819T120000
DTSTAMP;VALUE=DATE-TIME:20260420T022039Z
UID:dd015e4a9b4d4af2b5469fd4d183819e@www.goiania.go.leg.br
CONTACT:VEREADORA DRA. CRISTINA LOPES AFONSO
CREATED;VALUE=DATE-TIME:20160801T131845Z
LAST-MODIFIED;VALUE=DATE-TIME:20160801T131850Z
LOCATION:PLENÁRIO TRAJANO GUIMARÃES
URL:https://www.goiania.go.leg.br/institucional/eventos/sessao-especial-em
 -homenagem-aos-pioneiros-da-associacao-dos-funcionarios-do-fisco-do-estado
 -de-goias-affego
END:VEVENT
BEGIN:VTIMEZONE
TZID:Brazil/East
X-LIC-LOCATION:Brazil/East
BEGIN:STANDARD
DTSTART;VALUE=DATE-TIME:20160220T230000
TZNAME:BRT
TZOFFSETFROM:-0200
TZOFFSETTO:-0300
END:STANDARD
END:VTIMEZONE
END:VCALENDAR
