BEGIN:VCALENDAR
VERSION:2.0
PRODID:-//Plone.org//NONSGML plone.app.event//EN
X-WR-TIMEZONE:Brazil/East
BEGIN:VEVENT
SUMMARY:SESSÃO ESPECIAL EM HOMENAGEM AOS MILITARES DA POLÍCIA MILITAR DO
  BATALHÃO DE OPERAÇÕES ESPECIAIS.
DTSTART;TZID=Brazil/East;VALUE=DATE-TIME:20161005T193000
DTEND;TZID=Brazil/East;VALUE=DATE-TIME:20161005T220000
DTSTAMP;VALUE=DATE-TIME:20260420T024721Z
UID:9639423fbfb34a66bf1c2e789785caed@www.goiania.go.leg.br
CONTACT:VEREADOR ANSELMO PEREIRA
CREATED;VALUE=DATE-TIME:20160817T105949Z
LAST-MODIFIED;VALUE=DATE-TIME:20160817T105955Z
LOCATION:PLENÁRIO TRAJANO GUIMARÃES
URL:https://www.goiania.go.leg.br/institucional/eventos/sessao-especial-em
 -homenagem-aos-militares-da-policia-militar-do-batalhao-de-operacoes-espec
 iais
END:VEVENT
BEGIN:VTIMEZONE
TZID:Brazil/East
X-LIC-LOCATION:Brazil/East
BEGIN:STANDARD
DTSTART;VALUE=DATE-TIME:20160220T230000
TZNAME:BRT
TZOFFSETFROM:-0200
TZOFFSETTO:-0300
END:STANDARD
END:VTIMEZONE
END:VCALENDAR
