BEGIN:VCALENDAR
VERSION:2.0
PRODID:-//Plone.org//NONSGML plone.app.event//EN
X-WR-TIMEZONE:Brazil/East
BEGIN:VEVENT
SUMMARY:SESSÃO ESPECIAL EM HOMENAGEM AOS GUARDIÕES VERDE.
DTSTART;TZID=Brazil/East;VALUE=DATE-TIME:20160817T193000
DTEND;TZID=Brazil/East;VALUE=DATE-TIME:20160817T220000
DTSTAMP;VALUE=DATE-TIME:20260419T231324Z
UID:895281ef41a545228fedc980b94e4768@www.goiania.go.leg.br
CONTACT:VERERADOR WELINGTON PEIXOTO
CREATED;VALUE=DATE-TIME:20160613T131558Z
LAST-MODIFIED;VALUE=DATE-TIME:20160613T131603Z
LOCATION:PLENÁRIO TRAJANO GUIMARÃES
URL:https://www.goiania.go.leg.br/institucional/eventos/sessao-especial-em
 -homenagem-aos-guardioes-verde
END:VEVENT
BEGIN:VTIMEZONE
TZID:Brazil/East
X-LIC-LOCATION:Brazil/East
BEGIN:STANDARD
DTSTART;VALUE=DATE-TIME:20160220T230000
TZNAME:BRT
TZOFFSETFROM:-0200
TZOFFSETTO:-0300
END:STANDARD
END:VTIMEZONE
END:VCALENDAR
