BEGIN:VCALENDAR
VERSION:2.0
PRODID:-//Plone.org//NONSGML plone.app.event//EN
X-WR-TIMEZONE:Brazil/East
BEGIN:VEVENT
SUMMARY:SESSÃO ESPECIAL EM HOMENAGEM AOS BOMBEIROS CIVIS DE GOIÂNIA.
DTSTART;TZID=Brazil/East;VALUE=DATE-TIME:20160912T193000
DTEND;TZID=Brazil/East;VALUE=DATE-TIME:20160912T220000
DTSTAMP;VALUE=DATE-TIME:20260420T033118Z
UID:fc3365b662d74f31b0b4a5dae6d5d9ae@www.goiania.go.leg.br
CONTACT:VEREADOR ANTÔNIO UCHÔA
CREATED;VALUE=DATE-TIME:20160829T150118Z
LAST-MODIFIED;VALUE=DATE-TIME:20160829T150124Z
LOCATION:PLENÁRIO TRAJANO GUIMARÃES
URL:https://www.goiania.go.leg.br/institucional/eventos/sessao-especial-em
 -homenagem-aos-bombeiros-civis-de-goiania
END:VEVENT
BEGIN:VTIMEZONE
TZID:Brazil/East
X-LIC-LOCATION:Brazil/East
BEGIN:STANDARD
DTSTART;VALUE=DATE-TIME:20160220T230000
TZNAME:BRT
TZOFFSETFROM:-0200
TZOFFSETTO:-0300
END:STANDARD
END:VTIMEZONE
END:VCALENDAR
