BEGIN:VCALENDAR
VERSION:2.0
PRODID:-//Plone.org//NONSGML plone.app.event//EN
X-WR-TIMEZONE:Brazil/East
BEGIN:VEVENT
SUMMARY:SESSÃO ESPECIAL EM HOMENAGEM AOS AGENTES QUE ATUAM EM DEFESA DO C
 OMSUNIDOR.
DTSTART;TZID=Brazil/East;VALUE=DATE-TIME:20160926T193000
DTEND;TZID=Brazil/East;VALUE=DATE-TIME:20160926T220000
DTSTAMP;VALUE=DATE-TIME:20260420T033118Z
UID:0cf7eadc38534d098a38ed93b441be0d@www.goiania.go.leg.br
CONTACT:VEREADOR FELISBERTO TAVARES
CREATED;VALUE=DATE-TIME:20160829T145527Z
LAST-MODIFIED;VALUE=DATE-TIME:20160829T145534Z
LOCATION:PLENÁRIO TRAJANO GUIMARÃES
URL:https://www.goiania.go.leg.br/institucional/eventos/sessao-especial-em
 -homenagem-aos-agentes-que-atuam-em-defesa-do-comsunidor
END:VEVENT
BEGIN:VTIMEZONE
TZID:Brazil/East
X-LIC-LOCATION:Brazil/East
BEGIN:STANDARD
DTSTART;VALUE=DATE-TIME:20160220T230000
TZNAME:BRT
TZOFFSETFROM:-0200
TZOFFSETTO:-0300
END:STANDARD
END:VTIMEZONE
END:VCALENDAR
