BEGIN:VCALENDAR
VERSION:2.0
PRODID:-//Plone.org//NONSGML plone.app.event//EN
X-WR-TIMEZONE:Brazil/East
BEGIN:VEVENT
SUMMARY:SESSÃO ESPECIAL EM HOMENAGEM AOS AGENTES PENITENCIÁRIOS.
DTSTART;TZID=Brazil/East;VALUE=DATE-TIME:20160905T193000
DTEND;TZID=Brazil/East;VALUE=DATE-TIME:20160905T220000
DTSTAMP;VALUE=DATE-TIME:20260420T010441Z
UID:75bd4a92248044cd88c7a716fe6fa313@www.goiania.go.leg.br
CONTACT:VEREADOR WELINGTON PEIXOTO
CREATED;VALUE=DATE-TIME:20160802T115207Z
LAST-MODIFIED;VALUE=DATE-TIME:20160802T115213Z
LOCATION:PLENÁRIO TRAJANO GUIMARÃES
URL:https://www.goiania.go.leg.br/institucional/eventos/sessao-especial-em
 -homenagem-aos-agentes-penitenciarios
END:VEVENT
BEGIN:VTIMEZONE
TZID:Brazil/East
X-LIC-LOCATION:Brazil/East
BEGIN:STANDARD
DTSTART;VALUE=DATE-TIME:20160220T230000
TZNAME:BRT
TZOFFSETFROM:-0200
TZOFFSETTO:-0300
END:STANDARD
END:VTIMEZONE
END:VCALENDAR
