BEGIN:VCALENDAR
VERSION:2.0
PRODID:-//Plone.org//NONSGML plone.app.event//EN
X-WR-TIMEZONE:Brazil/East
BEGIN:VEVENT
SUMMARY:SESSÃO ESPECIAL EM HOMENAGEM AOS 64 ANOS DA RECORD TV E AOS 26 AN
 OS DA RECORD TV GOIÁS.
DTSTART;TZID=Brazil/East;VALUE=DATE-TIME:20170929T193000
DTEND;TZID=Brazil/East;VALUE=DATE-TIME:20170929T220000
DTSTAMP;VALUE=DATE-TIME:20260421T083120Z
UID:59ec0f42993f445684013914fd0fdfe5@www.goiania.go.leg.br
CONTACT:VEREADOR ROGÉRIO CRUZ
CREATED;VALUE=DATE-TIME:20170831T111106Z
LAST-MODIFIED;VALUE=DATE-TIME:20170831T111114Z
LOCATION:PLENÁRIO TRAJANO GUIMARÃES
URL:https://www.goiania.go.leg.br/institucional/eventos/sessao-especial-em
 -homenagem-aos-64-anos-da-record-tv-e-aos-26-anos-da-record-tv-goias
END:VEVENT
BEGIN:VTIMEZONE
TZID:Brazil/East
X-LIC-LOCATION:Brazil/East
BEGIN:STANDARD
DTSTART;VALUE=DATE-TIME:20170218T230000
TZNAME:BRT
TZOFFSETFROM:-0200
TZOFFSETTO:-0300
END:STANDARD
END:VTIMEZONE
END:VCALENDAR
