BEGIN:VCALENDAR
VERSION:2.0
PRODID:-//Plone.org//NONSGML plone.app.event//EN
X-WR-TIMEZONE:Brazil/East
BEGIN:VEVENT
SUMMARY:SESSÃO ESPECIAL EM HOMENAGEM AOS 206 ANOS DE CAMPINAS
DTSTART;TZID=Brazil/East;VALUE=DATE-TIME:20160707T193000
DTEND;TZID=Brazil/East;VALUE=DATE-TIME:20160707T220000
DTSTAMP;VALUE=DATE-TIME:20260419T231349Z
UID:5a81bf649ca743d6996e868987d198d3@www.goiania.go.leg.br
CONTACT:VEREADORA CÉLIA VALADÃO
CREATED;VALUE=DATE-TIME:20160616T122108Z
LAST-MODIFIED;VALUE=DATE-TIME:20160616T122114Z
LOCATION:PLENÁRIO TRAJANO GUIMARÃES
URL:https://www.goiania.go.leg.br/institucional/eventos/sessao-especial-em
 -homenagem-aos-206-anos-de-campinas
END:VEVENT
BEGIN:VTIMEZONE
TZID:Brazil/East
X-LIC-LOCATION:Brazil/East
BEGIN:STANDARD
DTSTART;VALUE=DATE-TIME:20160220T230000
TZNAME:BRT
TZOFFSETFROM:-0200
TZOFFSETTO:-0300
END:STANDARD
END:VTIMEZONE
END:VCALENDAR
