BEGIN:VCALENDAR
VERSION:2.0
PRODID:-//Plone.org//NONSGML plone.app.event//EN
X-WR-TIMEZONE:Brazil/East
BEGIN:VEVENT
SUMMARY:SESSÃO ESPECIAL EM HOMENAGEM AOS 20 ANOS DA ACADEMIA DE DIREITO
DTSTART;TZID=Brazil/East;VALUE=DATE-TIME:20160701T193000
DTEND;TZID=Brazil/East;VALUE=DATE-TIME:20160701T220000
DTSTAMP;VALUE=DATE-TIME:20260419T215318Z
UID:298770131007423db27477755ce670d1@www.goiania.go.leg.br
CONTACT:VEREADOR ANSELMO PEREIRA
CREATED;VALUE=DATE-TIME:20160530T112206Z
LAST-MODIFIED;VALUE=DATE-TIME:20160530T112213Z
LOCATION:PLENÁRIO TRAJANO GUIMARÃES
URL:https://www.goiania.go.leg.br/institucional/eventos/sessao-especial-em
 -homenagem-aos-20-anos-da-academia-de-direito-1
END:VEVENT
BEGIN:VTIMEZONE
TZID:Brazil/East
X-LIC-LOCATION:Brazil/East
BEGIN:STANDARD
DTSTART;VALUE=DATE-TIME:20160220T230000
TZNAME:BRT
TZOFFSETFROM:-0200
TZOFFSETTO:-0300
END:STANDARD
END:VTIMEZONE
END:VCALENDAR
