BEGIN:VCALENDAR
VERSION:2.0
PRODID:-//Plone.org//NONSGML plone.app.event//EN
X-WR-TIMEZONE:Brazil/East
BEGIN:VEVENT
SUMMARY:SESSÃO ESPECIAL EM HOMENAGEM AO MOVIMENTO ESTUDANTIL.
DTSTART;TZID=Brazil/East;VALUE=DATE-TIME:20170612T090000
DTEND;TZID=Brazil/East;VALUE=DATE-TIME:20170612T120000
DTSTAMP;VALUE=DATE-TIME:20260420T042300Z
UID:c97394d3e16e4227aedd7471df025827@www.goiania.go.leg.br
CONTACT:VEREADOR WELINGTON PEIXOTO
CREATED;VALUE=DATE-TIME:20170612T114515Z
LAST-MODIFIED;VALUE=DATE-TIME:20170612T114521Z
LOCATION:PLENÁRIO TRAJANO GUIMARÃES
URL:https://www.goiania.go.leg.br/institucional/eventos/sessao-especial-em
 -homenagem-ao-movimento-estudantil
END:VEVENT
BEGIN:VTIMEZONE
TZID:Brazil/East
X-LIC-LOCATION:Brazil/East
BEGIN:STANDARD
DTSTART;VALUE=DATE-TIME:20170218T230000
TZNAME:BRT
TZOFFSETFROM:-0200
TZOFFSETTO:-0300
END:STANDARD
END:VTIMEZONE
END:VCALENDAR
