BEGIN:VCALENDAR
VERSION:2.0
PRODID:-//Plone.org//NONSGML plone.app.event//EN
X-WR-TIMEZONE:Brazil/East
BEGIN:VEVENT
SUMMARY:SESSÃO ESPECIAL EM HOMENAGEM AO MEIO AMBIENTE.
DTSTART;TZID=Brazil/East;VALUE=DATE-TIME:20170606T193000
DTEND;TZID=Brazil/East;VALUE=DATE-TIME:20170606T220000
DTSTAMP;VALUE=DATE-TIME:20260420T100156Z
UID:86047a6cf2ef4277af1c7220305cfee8@www.goiania.go.leg.br
CONTACT:VEREADOR GUSTAVO CRUVINEL E DRA. CRISTINA
CREATED;VALUE=DATE-TIME:20170116T130330Z
LAST-MODIFIED;VALUE=DATE-TIME:20170606T105338Z
LOCATION:PLENÁRIO
URL:https://www.goiania.go.leg.br/institucional/eventos/sessao-especial-em
 -homenagem-ao-meio-ambiente
END:VEVENT
BEGIN:VTIMEZONE
TZID:Brazil/East
X-LIC-LOCATION:Brazil/East
BEGIN:STANDARD
DTSTART;VALUE=DATE-TIME:20170218T230000
TZNAME:BRT
TZOFFSETFROM:-0200
TZOFFSETTO:-0300
END:STANDARD
END:VTIMEZONE
END:VCALENDAR
