BEGIN:VCALENDAR
VERSION:2.0
PRODID:-//Plone.org//NONSGML plone.app.event//EN
X-WR-TIMEZONE:Brazil/East
BEGIN:VEVENT
SUMMARY:SESSÃO ESPECIAL EM HOMENAGEM AO DIA DO GUARDA MUNICIPAL.
DTSTART;TZID=Brazil/East;VALUE=DATE-TIME:20170509T193000
DTEND;TZID=Brazil/East;VALUE=DATE-TIME:20170509T220000
DTSTAMP;VALUE=DATE-TIME:20260420T093308Z
UID:d34bbe0a36754ca5b13e1f75b47a0a98@www.goiania.go.leg.br
CONTACT:VEREADOR DELEGADO EDUARDO PRADO
CREATED;VALUE=DATE-TIME:20170116T113810Z
LAST-MODIFIED;VALUE=DATE-TIME:20170418T110639Z
LOCATION:PLENÁRIO
URL:https://www.goiania.go.leg.br/institucional/eventos/sessao-especial-em
 -homenagem-ao-dia-do-guarda-municipal
END:VEVENT
BEGIN:VTIMEZONE
TZID:Brazil/East
X-LIC-LOCATION:Brazil/East
BEGIN:STANDARD
DTSTART;VALUE=DATE-TIME:20170218T230000
TZNAME:BRT
TZOFFSETFROM:-0200
TZOFFSETTO:-0300
END:STANDARD
END:VTIMEZONE
END:VCALENDAR
