BEGIN:VCALENDAR
VERSION:2.0
PRODID:-//Plone.org//NONSGML plone.app.event//EN
X-WR-TIMEZONE:Brazil/East
BEGIN:VEVENT
SUMMARY:SESSÃO ESPECIAL EM HOMENAGEM AO DIA DO FISCAL COM EXPOSIÇÃO E P
 ALESTRAS PARA ALUNOS DE ESCOLAS PÚBLICAS.
DTSTART;TZID=Brazil/East;VALUE=DATE-TIME:20170920T073000
DTEND;TZID=Brazil/East;VALUE=DATE-TIME:20170920T123000
DTSTAMP;VALUE=DATE-TIME:20260421T083057Z
UID:f9f8ef5f05f5441f8077de2ef3afb398@www.goiania.go.leg.br
CONTACT:VEREADOR ANSELMO PEREIRA
CREATED;VALUE=DATE-TIME:20170830T141905Z
LAST-MODIFIED;VALUE=DATE-TIME:20170830T142131Z
LOCATION:AUDITÓRIO JAIME CÂMARA
URL:https://www.goiania.go.leg.br/institucional/eventos/sessao-especial-em
 -homenagem-ao-dia-do-fiscal-com-exposicao-e-palestras-para-alunos-de-escol
 as-publicas
END:VEVENT
BEGIN:VTIMEZONE
TZID:Brazil/East
X-LIC-LOCATION:Brazil/East
BEGIN:STANDARD
DTSTART;VALUE=DATE-TIME:20170218T230000
TZNAME:BRT
TZOFFSETFROM:-0200
TZOFFSETTO:-0300
END:STANDARD
END:VTIMEZONE
END:VCALENDAR
