BEGIN:VCALENDAR
VERSION:2.0
PRODID:-//Plone.org//NONSGML plone.app.event//EN
X-WR-TIMEZONE:Brazil/East
BEGIN:VEVENT
SUMMARY:SESSÃO ESPECIAL EM HOMENAGEM AO DIA DO DIREITO A VIDA EM COMEMORA
 ÇÃO AOS 10 ANOS DO COMITÊ GOIANO DA CIDADANIA EM DEFESA DA VIDA BRASIL 
 SEM ABORTO.
DTSTART;TZID=Brazil/East;VALUE=DATE-TIME:20170508T193000
DTEND;TZID=Brazil/East;VALUE=DATE-TIME:20170508T220000
DTSTAMP;VALUE=DATE-TIME:20260420T190402Z
UID:fc69f529c2c74ebbac0209ee9a5ec213@www.goiania.go.leg.br
CREATED;VALUE=DATE-TIME:20170330T125859Z
LAST-MODIFIED;VALUE=DATE-TIME:20170330T125905Z
LOCATION:PLENÁRIO TRAJANO GUIMARÃES
URL:https://www.goiania.go.leg.br/institucional/eventos/sessao-especial-em
 -homenagem-ao-dia-do-direito-a-vida-em-comemoracao-aos-10-anos-do-comite-g
 oiano-da-cidadania-em-defesa-da-vida-brasil-sem-aborto
END:VEVENT
BEGIN:VTIMEZONE
TZID:Brazil/East
X-LIC-LOCATION:Brazil/East
BEGIN:STANDARD
DTSTART;VALUE=DATE-TIME:20170218T230000
TZNAME:BRT
TZOFFSETFROM:-0200
TZOFFSETTO:-0300
END:STANDARD
END:VTIMEZONE
END:VCALENDAR
