BEGIN:VCALENDAR
VERSION:2.0
PRODID:-//Plone.org//NONSGML plone.app.event//EN
X-WR-TIMEZONE:Brazil/East
BEGIN:VEVENT
SUMMARY:SESSÃO ESPECIAL EM HOMENAGEM AO DIA DO CEREANO.
DTSTART;TZID=Brazil/East;VALUE=DATE-TIME:20170328T193000
DTEND;TZID=Brazil/East;VALUE=DATE-TIME:20170328T220000
DTSTAMP;VALUE=DATE-TIME:20260420T115517Z
UID:53cf2a3348b14267847a07b00b729a63@www.goiania.go.leg.br
CREATED;VALUE=DATE-TIME:20170302T133509Z
LAST-MODIFIED;VALUE=DATE-TIME:20170302T133519Z
LOCATION:PLENÁRIO TRAJANO GUIMARÃES
URL:https://www.goiania.go.leg.br/institucional/eventos/sessao-especial-em
 -homenagem-ao-dia-do-cereano
END:VEVENT
BEGIN:VTIMEZONE
TZID:Brazil/East
X-LIC-LOCATION:Brazil/East
BEGIN:STANDARD
DTSTART;VALUE=DATE-TIME:20170218T230000
TZNAME:BRT
TZOFFSETFROM:-0200
TZOFFSETTO:-0300
END:STANDARD
END:VTIMEZONE
END:VCALENDAR
