BEGIN:VCALENDAR
VERSION:2.0
PRODID:-//Plone.org//NONSGML plone.app.event//EN
X-WR-TIMEZONE:Brazil/East
BEGIN:VEVENT
SUMMARY:SESSÃO ESPECIAL EM HOMENAGEM AO DESENVOLVIMENTO DO MERCADO IMOBIL
 IÁRIO.
DTSTART;TZID=Brazil/East;VALUE=DATE-TIME:20160824T193000
DTEND;TZID=Brazil/East;VALUE=DATE-TIME:20160824T220000
DTSTAMP;VALUE=DATE-TIME:20260420T010559Z
UID:da3f7e9beda04e76a168e434215edfae@www.goiania.go.leg.br
CONTACT:VEREADOR ANSELMO PEREIRA
CREATED;VALUE=DATE-TIME:20160801T132605Z
LAST-MODIFIED;VALUE=DATE-TIME:20160801T132611Z
LOCATION:PLENÁRIO TRAJANO GUIMARÃES
URL:https://www.goiania.go.leg.br/institucional/eventos/sessao-especial-em
 -homenagem-ao-desenvolvimento-do-mercado-imobiliario
END:VEVENT
BEGIN:VTIMEZONE
TZID:Brazil/East
X-LIC-LOCATION:Brazil/East
BEGIN:STANDARD
DTSTART;VALUE=DATE-TIME:20160220T230000
TZNAME:BRT
TZOFFSETFROM:-0200
TZOFFSETTO:-0300
END:STANDARD
END:VTIMEZONE
END:VCALENDAR
