BEGIN:VCALENDAR
VERSION:2.0
PRODID:-//Plone.org//NONSGML plone.app.event//EN
X-WR-TIMEZONE:Brazil/East
BEGIN:VEVENT
SUMMARY:SESSÃO ESPECIAL EM HOMENAGEM AO BATALHÃO DE ROTAM - RONDAS OSTEN
 SIVAS TÁTICAS METROPOLITANAS.
DTSTART;TZID=Brazil/East;VALUE=DATE-TIME:20171002T193000
DTEND;TZID=Brazil/East;VALUE=DATE-TIME:20171002T220000
DTSTAMP;VALUE=DATE-TIME:20260420T093407Z
UID:b81ef7d422f547d79795c2ad6483952d@www.goiania.go.leg.br
CONTACT:VEREADOR SARGENTO NOVANDIR
CREATED;VALUE=DATE-TIME:20170919T134015Z
LAST-MODIFIED;VALUE=DATE-TIME:20170919T134023Z
LOCATION:PLENÁRIO TRAJANO GUIMARÃES
URL:https://www.goiania.go.leg.br/institucional/eventos/sessao-especial-em
 -homenagem-ao-batalhao-de-rotam-rondas-ostensivas-taticas-metropolitanas
END:VEVENT
BEGIN:VTIMEZONE
TZID:Brazil/East
X-LIC-LOCATION:Brazil/East
BEGIN:STANDARD
DTSTART;VALUE=DATE-TIME:20170218T230000
TZNAME:BRT
TZOFFSETFROM:-0200
TZOFFSETTO:-0300
END:STANDARD
END:VTIMEZONE
END:VCALENDAR
