BEGIN:VCALENDAR
VERSION:2.0
PRODID:-//Plone.org//NONSGML plone.app.event//EN
X-WR-TIMEZONE:Brazil/East
BEGIN:VEVENT
SUMMARY:SESSÃO ESPECIAL EM HOMENAGEM AO 1º CIPM/CPC - COMPANHIA INDEPEND
 ENTE DA POLICIA MILITAR DO ESTADO DE GOIÁS.
DTSTART;TZID=Brazil/East;VALUE=DATE-TIME:20171025T080000
DTEND;TZID=Brazil/East;VALUE=DATE-TIME:20171025T120000
DTSTAMP;VALUE=DATE-TIME:20260421T125212Z
UID:ad16240410bf409db953b3602a06ad62@www.goiania.go.leg.br
CONTACT:VEREADOR ANSELMO PEREIRA
CREATED;VALUE=DATE-TIME:20171003T142742Z
LAST-MODIFIED;VALUE=DATE-TIME:20171003T142748Z
LOCATION:AUDITÓRIO JAIME CÂMARA
URL:https://www.goiania.go.leg.br/institucional/eventos/sessao-especial-em
 -homenagem-ao-1o-cipm-cpc-companhia-independente-da-policia-militar-do-est
 ado-de-goias
END:VEVENT
BEGIN:VTIMEZONE
TZID:Brazil/East
X-LIC-LOCATION:Brazil/East
BEGIN:DAYLIGHT
DTSTART;VALUE=DATE-TIME:20171015T010000
TZNAME:BRST
TZOFFSETFROM:-0300
TZOFFSETTO:-0200
END:DAYLIGHT
END:VTIMEZONE
END:VCALENDAR
