BEGIN:VCALENDAR
VERSION:2.0
PRODID:-//Plone.org//NONSGML plone.app.event//EN
X-WR-TIMEZONE:Brazil/East
BEGIN:VEVENT
SUMMARY:SESSÃO ESPECIAL EM COMEMORAÇÃO AOS 52 ANOS DA CRIAÇÃO DA PROF
 ISSÃO DO ADMINISTRADOR.
DTSTART;TZID=Brazil/East;VALUE=DATE-TIME:20170905T193000
DTEND;TZID=Brazil/East;VALUE=DATE-TIME:20170905T220000
DTSTAMP;VALUE=DATE-TIME:20260420T084824Z
UID:ccc2b5e3b6a74ce5a2822e3d09b3cc64@www.goiania.go.leg.br
CONTACT:VEREADOR ANSELMO PEREIRA
CREATED;VALUE=DATE-TIME:20170116T125047Z
LAST-MODIFIED;VALUE=DATE-TIME:20170116T125055Z
LOCATION:PLENÁRIO
URL:https://www.goiania.go.leg.br/institucional/eventos/sessao-especial-em
 -comemoracao-aos-52-anos-da-criacao-da-profissao-do-administrador
END:VEVENT
BEGIN:VTIMEZONE
TZID:Brazil/East
X-LIC-LOCATION:Brazil/East
BEGIN:STANDARD
DTSTART;VALUE=DATE-TIME:20170218T230000
TZNAME:BRT
TZOFFSETFROM:-0200
TZOFFSETTO:-0300
END:STANDARD
END:VTIMEZONE
END:VCALENDAR
