BEGIN:VCALENDAR
VERSION:2.0
PRODID:-//Plone.org//NONSGML plone.app.event//EN
X-WR-TIMEZONE:Brazil/East
BEGIN:VEVENT
SUMMARY:SESSÃO ESPECIAL EM COMEMORAÇÃO AOS 21 ANOS DA NOSSA REDE
DTSTART;TZID=Brazil/East;VALUE=DATE-TIME:20160902T193000
DTEND;TZID=Brazil/East;VALUE=DATE-TIME:20160902T220000
DTSTAMP;VALUE=DATE-TIME:20260419T202255Z
UID:5393a3054f6e409695a743f1ddb98cc3@www.goiania.go.leg.br
CONTACT:VER. PAULO DA FARMÁCIA
CREATED;VALUE=DATE-TIME:20160518T123656Z
LAST-MODIFIED;VALUE=DATE-TIME:20160518T124857Z
LOCATION:PLENÁRIO TRAJANO GUIMARÃES
URL:https://www.goiania.go.leg.br/institucional/eventos/sessao-especial-em
 -comemoracao-aos-21-anos-da-nossa-rede
END:VEVENT
BEGIN:VTIMEZONE
TZID:Brazil/East
X-LIC-LOCATION:Brazil/East
BEGIN:STANDARD
DTSTART;VALUE=DATE-TIME:20160220T230000
TZNAME:BRT
TZOFFSETFROM:-0200
TZOFFSETTO:-0300
END:STANDARD
END:VTIMEZONE
END:VCALENDAR
