BEGIN:VCALENDAR
VERSION:2.0
PRODID:-//Plone.org//NONSGML plone.app.event//EN
X-WR-TIMEZONE:Brazil/East
BEGIN:VEVENT
SUMMARY:SESSÃO ESPECIAL EM COMEMORAÇÃO AOS 139 ANOS DO CARTÓRIO ANTÔN
 IO DO PRADO.
DTSTART;TZID=Brazil/East;VALUE=DATE-TIME:20160707T174500
DTEND;TZID=Brazil/East;VALUE=DATE-TIME:20160707T200000
DTSTAMP;VALUE=DATE-TIME:20260420T021743Z
UID:ba2e85e43b324f878a7013a10e0cf480@www.goiania.go.leg.br
CONTACT:VEREADORA CÉLIA VALADÃO
CREATED;VALUE=DATE-TIME:20160629T144954Z
LAST-MODIFIED;VALUE=DATE-TIME:20160629T144958Z
LOCATION:PLENÁRIO TRAJANO GUIMARÃES
URL:https://www.goiania.go.leg.br/institucional/eventos/sessao-especial-em
 -comemoracao-aos-139-anos-do-cartorio-antonio-do-prado
END:VEVENT
BEGIN:VTIMEZONE
TZID:Brazil/East
X-LIC-LOCATION:Brazil/East
BEGIN:STANDARD
DTSTART;VALUE=DATE-TIME:20160220T230000
TZNAME:BRT
TZOFFSETFROM:-0200
TZOFFSETTO:-0300
END:STANDARD
END:VTIMEZONE
END:VCALENDAR
