BEGIN:VCALENDAR
VERSION:2.0
PRODID:-//Plone.org//NONSGML plone.app.event//EN
X-WR-TIMEZONE:Brazil/East
BEGIN:VEVENT
SUMMARY:SESSÃO ESPECIAL EM COMEMORAÇÃO AO DIA DO RADIALISTA.
DTSTART;TZID=Brazil/East;VALUE=DATE-TIME:20171218T193000
DTEND;TZID=Brazil/East;VALUE=DATE-TIME:20171218T220000
DTSTAMP;VALUE=DATE-TIME:20260421T193113Z
UID:45e6d4c4576e47a3b34e559e17f7549a@www.goiania.go.leg.br
CONTACT:VEREADOR ALYSSON LIMA
CREATED;VALUE=DATE-TIME:20171128T141001Z
LAST-MODIFIED;VALUE=DATE-TIME:20171128T141005Z
LOCATION:PLENÁRIO TRAJANO GUIMARÃES
URL:https://www.goiania.go.leg.br/institucional/eventos/sessao-especial-em
 -comemoracao-ao-dia-do-radialista
END:VEVENT
BEGIN:VTIMEZONE
TZID:Brazil/East
X-LIC-LOCATION:Brazil/East
BEGIN:DAYLIGHT
DTSTART;VALUE=DATE-TIME:20171015T010000
TZNAME:BRST
TZOFFSETFROM:-0300
TZOFFSETTO:-0200
END:DAYLIGHT
END:VTIMEZONE
END:VCALENDAR
