BEGIN:VCALENDAR
VERSION:2.0
PRODID:-//Plone.org//NONSGML plone.app.event//EN
X-WR-TIMEZONE:Brazil/East
BEGIN:VEVENT
SUMMARY:SESSÃO ESPECIAL EM COMEMORAÇÃO AO DIA DO MAÇOM E ENTREGA DE T
 ÍTULO AO SENHOR MÚCIO BONIFÁCIO GUIMARÃES.
DTSTART;TZID=Brazil/East;VALUE=DATE-TIME:20160818T193000
DTEND;TZID=Brazil/East;VALUE=DATE-TIME:20160818T220000
DTSTAMP;VALUE=DATE-TIME:20260420T010554Z
UID:f95c210d8af048f5852fae6ee8bf60b9@www.goiania.go.leg.br
CONTACT:VEREADOR ANSELMO PEREIRA E PAULO DA FARMÁCIA
CREATED;VALUE=DATE-TIME:20160801T133502Z
LAST-MODIFIED;VALUE=DATE-TIME:20160801T133509Z
LOCATION:PLENÁRIO TRAJANO GUIMARÃES
URL:https://www.goiania.go.leg.br/institucional/eventos/sessao-especial-em
 -comemoracao-ao-dia-do-macom-e-entrega-de-titulo-ao-senhor-mucio-bonifacio
 -guimaraes
END:VEVENT
BEGIN:VTIMEZONE
TZID:Brazil/East
X-LIC-LOCATION:Brazil/East
BEGIN:STANDARD
DTSTART;VALUE=DATE-TIME:20160220T230000
TZNAME:BRT
TZOFFSETFROM:-0200
TZOFFSETTO:-0300
END:STANDARD
END:VTIMEZONE
END:VCALENDAR
