BEGIN:VCALENDAR
VERSION:2.0
PRODID:-//Plone.org//NONSGML plone.app.event//EN
X-WR-TIMEZONE:Brazil/East
BEGIN:VEVENT
SUMMARY:SESSÃO ESPECIAL EM COMEMORAÇÃO AO DIA DO JORNALISTA.
DTSTART;TZID=Brazil/East;VALUE=DATE-TIME:20170407T190000
DTEND;TZID=Brazil/East;VALUE=DATE-TIME:20170407T220000
DTSTAMP;VALUE=DATE-TIME:20260420T093400Z
UID:9eded6125e4c47b1843a03b060ce8999@www.goiania.go.leg.br
CONTACT:VEREADOR ALYSON LIMA
CREATED;VALUE=DATE-TIME:20170202T101140Z
LAST-MODIFIED;VALUE=DATE-TIME:20170202T101145Z
LOCATION:PLENÁRIO TRAJANO GUIMARÃES
URL:https://www.goiania.go.leg.br/institucional/eventos/sessao-especial-em
 -comemoracao-ao-dia-do-jornalista
END:VEVENT
BEGIN:VTIMEZONE
TZID:Brazil/East
X-LIC-LOCATION:Brazil/East
BEGIN:STANDARD
DTSTART;VALUE=DATE-TIME:20170218T230000
TZNAME:BRT
TZOFFSETFROM:-0200
TZOFFSETTO:-0300
END:STANDARD
END:VTIMEZONE
END:VCALENDAR
