BEGIN:VCALENDAR
VERSION:2.0
PRODID:-//Plone.org//NONSGML plone.app.event//EN
X-WR-TIMEZONE:Brazil/East
BEGIN:VEVENT
SUMMARY:SESSÃO ESPECIAL EM COMEMORAÇÃO AO DIA INTERNACIONAL DA ENFERMAG
 EM.
DTSTART;TZID=Brazil/East;VALUE=DATE-TIME:20170511T193000
DTEND;TZID=Brazil/East;VALUE=DATE-TIME:20170511T203000
DTSTAMP;VALUE=DATE-TIME:20260420T093312Z
UID:101b503d8e564d308b016ef4de44ed3b@www.goiania.go.leg.br
CONTACT:VEREADOR GUSTAVO CRUVINEL
CREATED;VALUE=DATE-TIME:20170202T101402Z
LAST-MODIFIED;VALUE=DATE-TIME:20170404T120824Z
LOCATION:PLENÁRIO TRAJANO GUIMARÃES
URL:https://www.goiania.go.leg.br/institucional/eventos/sessao-especial-em
 -comemoracao-ao-dia-do-enfermeiro
END:VEVENT
BEGIN:VTIMEZONE
TZID:Brazil/East
X-LIC-LOCATION:Brazil/East
BEGIN:STANDARD
DTSTART;VALUE=DATE-TIME:20170218T230000
TZNAME:BRT
TZOFFSETFROM:-0200
TZOFFSETTO:-0300
END:STANDARD
END:VTIMEZONE
END:VCALENDAR
