BEGIN:VCALENDAR
VERSION:2.0
PRODID:-//Plone.org//NONSGML plone.app.event//EN
X-WR-TIMEZONE:Brazil/East
BEGIN:VEVENT
SUMMARY:SESSÃO ESPECIAL EM COMEMORAÇÃO AO DIA DO CONSUMIDOR.
DTSTART;TZID=Brazil/East;VALUE=DATE-TIME:20170327T193000
DTEND;TZID=Brazil/East;VALUE=DATE-TIME:20170327T220000
DTSTAMP;VALUE=DATE-TIME:20260420T135322Z
UID:e53364858a1140eda958b8a0def0ee76@www.goiania.go.leg.br
CONTACT:VEREADOR EDUARDO PRADO
CREATED;VALUE=DATE-TIME:20170315T134849Z
LAST-MODIFIED;VALUE=DATE-TIME:20170315T134854Z
LOCATION:PLENÁRIO TRAJANO GUIMARÃES
URL:https://www.goiania.go.leg.br/institucional/eventos/sessao-especial-em
 -comemoracao-ao-dia-do-consumidor
END:VEVENT
BEGIN:VTIMEZONE
TZID:Brazil/East
X-LIC-LOCATION:Brazil/East
BEGIN:STANDARD
DTSTART;VALUE=DATE-TIME:20170218T230000
TZNAME:BRT
TZOFFSETFROM:-0200
TZOFFSETTO:-0300
END:STANDARD
END:VTIMEZONE
END:VCALENDAR
