BEGIN:VCALENDAR
VERSION:2.0
PRODID:-//Plone.org//NONSGML plone.app.event//EN
X-WR-TIMEZONE:Brazil/East
BEGIN:VEVENT
SUMMARY:SESSÃO ESPECIAL EM COMEMORAÇÃO AO DIA DO BOMBEIRO MILITAR.
DTSTART;TZID=Brazil/East;VALUE=DATE-TIME:20170627T193000
DTEND;TZID=Brazil/East;VALUE=DATE-TIME:20170627T220000
DTSTAMP;VALUE=DATE-TIME:20260420T225128Z
UID:731ef39f25804933a1b61bf49763ab8c@www.goiania.go.leg.br
CONTACT:VEREADOR GUSTAVO CRUVINEL E CABO SENNA
CREATED;VALUE=DATE-TIME:20170508T131500Z
LAST-MODIFIED;VALUE=DATE-TIME:20170523T130216Z
LOCATION:PLENÁRIO TRAJANO  GUIMARÃES
URL:https://www.goiania.go.leg.br/institucional/eventos/sessao-especial-em
 -comemoracao-ao-dia-do-bombeiro-militar
END:VEVENT
BEGIN:VTIMEZONE
TZID:Brazil/East
X-LIC-LOCATION:Brazil/East
BEGIN:STANDARD
DTSTART;VALUE=DATE-TIME:20170218T230000
TZNAME:BRT
TZOFFSETFROM:-0200
TZOFFSETTO:-0300
END:STANDARD
END:VTIMEZONE
END:VCALENDAR
