BEGIN:VCALENDAR
VERSION:2.0
PRODID:-//Plone.org//NONSGML plone.app.event//EN
X-WR-TIMEZONE:Brazil/East
BEGIN:VEVENT
SUMMARY:SESSÃO ESPECIAL EM COMEMORAÇÃO AO DIA DO ACUPUNTURISTA.
DTSTART;TZID=Brazil/East;VALUE=DATE-TIME:20170329T193000
DTEND;TZID=Brazil/East;VALUE=DATE-TIME:20170329T220000
DTSTAMP;VALUE=DATE-TIME:20260420T084752Z
UID:ad9e3e32a38a4709aee0cae548cbc9b1@www.goiania.go.leg.br
CONTACT:VEREADORA DRA. CRISTINA LOPES AFONSO
CREATED;VALUE=DATE-TIME:20170119T131334Z
LAST-MODIFIED;VALUE=DATE-TIME:20170315T120055Z
LOCATION:PLENÁRIO TRAJANO GUIMARÃES
URL:https://www.goiania.go.leg.br/institucional/eventos/sessao-especial-em
 -comemoracao-ao-dia-do-acupunturista
END:VEVENT
BEGIN:VTIMEZONE
TZID:Brazil/East
X-LIC-LOCATION:Brazil/East
BEGIN:STANDARD
DTSTART;VALUE=DATE-TIME:20170218T230000
TZNAME:BRT
TZOFFSETFROM:-0200
TZOFFSETTO:-0300
END:STANDARD
END:VTIMEZONE
END:VCALENDAR
