BEGIN:VCALENDAR
VERSION:2.0
PRODID:-//Plone.org//NONSGML plone.app.event//EN
X-WR-TIMEZONE:Brazil/East
BEGIN:VEVENT
SUMMARY:SESSÃO ESPECIAL EM COMEMORAÇÃO AO ANIVERSÁRIO  DO 9º BATALHÃ
 O DA POLÍCIA MILITAR.
DTSTART;TZID=Brazil/East;VALUE=DATE-TIME:20170912T193000
DTEND;TZID=Brazil/East;VALUE=DATE-TIME:20170912T220000
DTSTAMP;VALUE=DATE-TIME:20260421T013245Z
UID:beaf8d61362a4c1f803869ae32d99531@www.goiania.go.leg.br
CONTACT:VEREADOR CABO SENNA
CREATED;VALUE=DATE-TIME:20170523T133858Z
LAST-MODIFIED;VALUE=DATE-TIME:20170523T133902Z
LOCATION:PLENÁRIO TRAJANO GUIMARÃES
URL:https://www.goiania.go.leg.br/institucional/eventos/sessao-especial-em
 -comemoracao-ao-aniversario-do-9o-batalhao-da-policia-militar
END:VEVENT
BEGIN:VTIMEZONE
TZID:Brazil/East
X-LIC-LOCATION:Brazil/East
BEGIN:STANDARD
DTSTART;VALUE=DATE-TIME:20170218T230000
TZNAME:BRT
TZOFFSETFROM:-0200
TZOFFSETTO:-0300
END:STANDARD
END:VTIMEZONE
END:VCALENDAR
